BEGIN:VCALENDAR
VERSION:2.0
PRODID:-//FONDAZIONE ANDREA BORRI - ECPv6.15.20//NONSGML v1.0//EN
CALSCALE:GREGORIAN
METHOD:PUBLISH
X-WR-CALNAME:FONDAZIONE ANDREA BORRI
X-ORIGINAL-URL:https://fondazioneandreaborri.org
X-WR-CALDESC:Eventi per FONDAZIONE ANDREA BORRI
REFRESH-INTERVAL;VALUE=DURATION:PT1H
X-Robots-Tag:noindex
X-PUBLISHED-TTL:PT1H
BEGIN:VTIMEZONE
TZID:Europe/Rome
BEGIN:DAYLIGHT
TZOFFSETFROM:+0100
TZOFFSETTO:+0200
TZNAME:CEST
DTSTART:20220327T010000
END:DAYLIGHT
BEGIN:STANDARD
TZOFFSETFROM:+0200
TZOFFSETTO:+0100
TZNAME:CET
DTSTART:20221030T010000
END:STANDARD
BEGIN:DAYLIGHT
TZOFFSETFROM:+0100
TZOFFSETTO:+0200
TZNAME:CEST
DTSTART:20230326T010000
END:DAYLIGHT
BEGIN:STANDARD
TZOFFSETFROM:+0200
TZOFFSETTO:+0100
TZNAME:CET
DTSTART:20231029T010000
END:STANDARD
BEGIN:DAYLIGHT
TZOFFSETFROM:+0100
TZOFFSETTO:+0200
TZNAME:CEST
DTSTART:20240331T010000
END:DAYLIGHT
BEGIN:STANDARD
TZOFFSETFROM:+0200
TZOFFSETTO:+0100
TZNAME:CET
DTSTART:20241027T010000
END:STANDARD
END:VTIMEZONE
BEGIN:VEVENT
DTSTART;TZID=Europe/Rome:20231130T100000
DTEND;TZID=Europe/Rome:20231130T123000
DTSTAMP:20260421T225017
CREATED:20231103T173112Z
LAST-MODIFIED:20231116T051301Z
UID:7409-1701338400-1701347400@fondazioneandreaborri.org
SUMMARY:RIFLESSIONI SULL'ACQUA 2023
DESCRIPTION:Nel novembre 2022 la Fondazione Andrea Borri organizzò un incontro dedicato al tema cruciale della siccità legata al cambiamento climatico e le conseguenti molteplici azioni utili a contenere il fenomeno. A un anno di distanza\, e rispettando l’impegno preso\, la Fondazione ripropone un incontro sul tema Riflessioni sull’acqua. Politiche e strategie di adattamento alla scarsità idrica.  \nSi confronteranno sul tema i rappresentanti delle istituzioni europee\, regionali e locali e imprenditori del settore agroalimentare. \nL’appuntamento è per il 30 novembre 2023 (h.10.00-13\,00) presso l’Aula Magna del Liceo Artistico Statale “Paolo Toschi” (viale Paolo Toschi 1). \nDopo un anno segnato da eventi estremi e scarsità di precipitazioni\, ancora una volta si metteranno a confronto soggetti politici e realtà imprenditoriali per valutare quanto è stato fatto\, quanto ancora rimane da fare e con quali strumenti. Fondamentale è l’integrazione della questione idrica nelle altre politiche ambientali e settoriali e la ricerca di sinergie tra di esse per consentire una gestione sostenibile dell’acqua e ridurre l’esposizione e la vulnerabilità della società allo stress idrico. \nSul tema si confronteranno i rappresentanti delle istituzioni europee\, regionali e locali e imprenditori del settore agroalimentare. \nInterverranno in apertura alle ore 10: \n\nBernardo Borri\, Presidente Fondazione Andrea Borri\nVeronica Manfredi\, Direttrice DG Ambiente Commissione europea (in collegamento da Bruxelles)\nBarbara Lori\, Assessore Regione Emilia-Romagna\nGianluca Borghi\, Assessore Comune di Parma\n\nAlle ore 11 ascolteremo le testimonianze e buone pratiche di: \n\nAlice Vecchi\, ARPAE Emilia-Romagna\nElisa Trombi\, Consorzio Bonifica Parmense\nValentino Piramide\, IRETI s.p.a.\nAlessandro Spadini\, Gruppo Barilla\n\nSeguirà un dibattito dalle 11:30 fino alla chiusura dell’evento\, previsto per le ore 12:30. \n  \nScarica il programma »
URL:https://fondazioneandreaborri.org/agenda/riflessioni-sullacqua-2023/
LOCATION:Liceo Artistico Statale Paolo Toschi\, Viale Paolo Toschi 1\, Parma
CATEGORIES:Convegno
ATTACH;FMTTYPE=image/webp:https://fondazioneandreaborri.org/wp-content/uploads/2023/11/Riflessioni-sull-acqua_2023.webp
END:VEVENT
END:VCALENDAR