BEGIN:VCALENDAR
VERSION:2.0
PRODID:-//FONDAZIONE ANDREA BORRI - ECPv6.15.20//NONSGML v1.0//EN
CALSCALE:GREGORIAN
METHOD:PUBLISH
X-WR-CALNAME:FONDAZIONE ANDREA BORRI
X-ORIGINAL-URL:https://fondazioneandreaborri.org
X-WR-CALDESC:Eventi per FONDAZIONE ANDREA BORRI
REFRESH-INTERVAL;VALUE=DURATION:PT1H
X-Robots-Tag:noindex
X-PUBLISHED-TTL:PT1H
BEGIN:VTIMEZONE
TZID:Europe/Rome
BEGIN:DAYLIGHT
TZOFFSETFROM:+0100
TZOFFSETTO:+0200
TZNAME:CEST
DTSTART:20220327T010000
END:DAYLIGHT
BEGIN:STANDARD
TZOFFSETFROM:+0200
TZOFFSETTO:+0100
TZNAME:CET
DTSTART:20221030T010000
END:STANDARD
BEGIN:DAYLIGHT
TZOFFSETFROM:+0100
TZOFFSETTO:+0200
TZNAME:CEST
DTSTART:20230326T010000
END:DAYLIGHT
BEGIN:STANDARD
TZOFFSETFROM:+0200
TZOFFSETTO:+0100
TZNAME:CET
DTSTART:20231029T010000
END:STANDARD
BEGIN:DAYLIGHT
TZOFFSETFROM:+0100
TZOFFSETTO:+0200
TZNAME:CEST
DTSTART:20240331T010000
END:DAYLIGHT
BEGIN:STANDARD
TZOFFSETFROM:+0200
TZOFFSETTO:+0100
TZNAME:CET
DTSTART:20241027T010000
END:STANDARD
END:VTIMEZONE
BEGIN:VEVENT
DTSTART;TZID=Europe/Rome:20230930T173000
DTEND;TZID=Europe/Rome:20230930T190000
DTSTAMP:20260422T015250
CREATED:20230731T144928Z
LAST-MODIFIED:20230912T160246Z
UID:7393-1696095000-1696100400@fondazioneandreaborri.org
SUMMARY:Convegno "Nuove sfide per il futuro dell’agricoltura di montagna"
DESCRIPTION:Sabato 30 settembre 2023 alle 17.30 nel Palazzo della Comunalia di Albareto\, nella sala del Museo del Fungo Porcino e nell’ambito dell’omonima Fiera nazionale\, si terrà il Convegno “Nuove sfide per il futuro dell’agricoltura in montagna”. \nLa Fondazione Andrea Borri\, che con l’Università di Parma e il Comune di Albareto\, ha promosso l’evento\, intende rinnovare l’impegno sui temi dell’agricoltura in montagna e la tutela del territorio\, che da sempre ne connotano l’attività. \nAgroecologia\, nuovi metodi di coltivazione\, microclimi: sono questi i temi che verranno trattati per l’analisi di una situazione complessa come quella dell’agricoltura in zone marginali. \nI recenti eventi climatici impongono di affrontare concretamente il passaggio a un’agricoltura alternativa rispetto a quella convenzionale\, che sia più equilibrata\, sostenibile e meno aggressiva nei confronti della terra e delle sue risorse. Si tratta di un’agricoltura che tiene conto anche della tutela del paesaggio\, della difesa dal dissesto idrogeologico\, della coesione sociale sul territorio e di una moderna economia circolare. La sostenibilità è dunque alla base di un nuovo modello agricolo capace di unire innovazione e ricerca per affrontare le sfide del cambiamento climatico. \nSu questi argomenti\, declinati nei diversi aspetti\, intervengono: \n\nFilippo Arfini\, Università di Parma\nStefano Segadelli\, Regione Emilia-Romagna\nFederico Rolleri\, imprenditore agricolo\nFabio Guglielmi\, Dinamica Soc. Cons. a.r.l.\n\n  \nAprono l’incontro i saluti del Sindaco di Albareto e del presidente della Fondazione Andrea Borri.
URL:https://fondazioneandreaborri.org/agenda/convegno-nuove-sfide-per-il-futuro-dellagricoltura-di-montagna/
LOCATION:Fiera Nazionale del Fungo Porcino\, Sala Convegni del Museo del Fungo Porcino - Palazzo della Comunalia di Albareto\, Albareto\, Italy
CATEGORIES:Convegno
ATTACH;FMTTYPE=image/jpeg:https://fondazioneandreaborri.org/wp-content/uploads/2023/07/Albareto-panorama.jpg
END:VEVENT
END:VCALENDAR